BEGIN:VCALENDAR
VERSION:2.0
PRODID:ADNA Events System
X-WR-TIMEZONE:America/Toronto
BEGIN:VTIMEZONE
TZID:America/Toronto
X-LIC-LOCATION:America/Toronto
BEGIN:DAYLIGHT
TZOFFSETFROM:-0400
TZOFFSETTO:-0400
DTSTART:19810329T020000
RRULE:FREQ=YEARLY;INTERVAL=1;BYMONTH=3;BYDAY=-1SU
END:DAYLIGHT
END:VTIMEZONE
BEGIN:VEVENT
UID:69e8b27b2d725
DTSTART;TZID=America/Toronto:20240430T110000
SEQUENCE:0
TRANSP:OPAQUE
DTEND;TZID=America/Toronto:20240430T130000
URL:https://evaluationcanada.ca/learning-and-events/events/national-events.
 html/event-info/details/id/21
SUMMARY:Entrepreneurship for Evaluators: Developing Your Business Model 
CLASS:PUBLIC
DESCRIPTION:As evaluators\, we have a wealth of knowledge related to develo
 ping and implementing evaluations. This knowledge can be extended into inn
 ovation and entrepreneurship. This introductory webinar on entrepreneurshi
 p will introduce learners to 10 types of business models\, as well as the 
 pros and cons of each type. \n\nhttps://evaluationcanada.ca/learning-and-e
 vents/events/national-events.html/event-info/details/id/21
X-ALT-DESC;FMTTYPE=text/html:<p><strong>Date: </strong>April 30\, 2024<br /
 >\n<strong>Time:</strong>&nbsp\;11am to 1pm ET<br />\n<strong>Format:</str
 ong>&nbsp\;Online via Zoom - <strong><a href=\"https://us02web.zoom.us/web
 inar/register/WN_ZUH-JMNgQfSCimFRlQRhyg\">REGISTER NOW</a></strong><br />\
 n<strong>Cost:</strong> Free for CES members and non-members<br />\n<stron
 g>Language:</strong> English</p>\n\n<p>As evaluators\, we have a wealth of
  knowledge related to developing and implementing evaluations. This knowle
 dge can be extended into innovation and entrepreneurship. This introductor
 y webinar on entrepreneurship will introduce learners to 10 types of busin
 ess models\, as well as the pros and cons of each type.</p>\n\n<p>This 2-h
 our webinar is intended for beginner\, intermediate\, and advanced-level e
 valuators.</p>\n\n<p><strong>Learning Objectives</strong></p>\n\n<ol>\n<li
 >Define entrepreneurship and a business model.</li>\n<li>Describe 10 types
  of business models.</li>\n<li>Analyze the pros and cons of 10 types of bu
 siness models.</li>\n</ol>\n\n<p><strong><a href=\"https://us02web.zoom.us
 /webinar/register/WN_ZUH-JMNgQfSCimFRlQRhyg\">REGISTER NOW</a></strong></p
 >\n\n<p><strong>About the Presenter</strong></p>\n\n<p>Bonnie McIntosh is 
 the Founder and Principal Consultant of ACE Community Health. ACE Communit
 y Health is a health promotion and research practice based in Ontario\, Ca
 nada. She has consulted on developing products and programs\, and observat
 ional\, qualitative\, experimental\, and mixed- methods research projects.
 </p>\n\n<p>Bonnie is a Doctoral Candidate in the School of Medicine and He
 alth Sciences at George Washington University\, she graduated with a Maste
 r of Business Administration degree from the University of Michigan - Flin
 t\, a Master of Public Health degree from West Chester University\, and an
  Honours Bachelor of Arts degree in Community Health from Brock University
 . Also\, she is a Certified Wellness Coach from the Mayo Clinic in Minneso
 ta\, and a Certified Health Education Specialist from the National Commiss
 ion for Health Education Credentialing\, Inc. in Pennsylvania. Bonnie work
 ed as a Graduate Assistant for the Office of Institutional Research at Wes
 t Chester University\, was a Canadian Institute of Health Fellow in Popula
 tion Intervention for Chronic Disease Prevention\, and was a Program Manag
 er for British Columbia Children&rsquo\;s Hospital. Now she works as a Pri
 ncipal Consultant for ACE Community Health\, Program Chair and Tenure-Trac
 k Assistant Professor for Rochester University\, and Lecturer for the Univ
 ersity of Michigan.</p>\n\n<p>Bonnie&rsquo\;s diverse training and profess
 ional experiences allow her to draw on knowledge and skills from various d
 isciplines to support her professional practices in business\, health\, ed
 ucation\, and research.</p>\n\n<ol>\n</ol>\n\n<p><strong>Contact Support</
 strong></p>\n\n<p>If you have any questions or concerns\, please contact <
 a href=\"mailto:admin@evaluationcanada.ca\">admin@evaluationcanada.ca</a> 
 and CC <a href=\"mailto:professionallearning@evaluationcanada.ca\">profess
 ionallearning@evaluationcanada.ca</a>.</p>\n
DTSTAMP:20260422T073523Z
END:VEVENT
END:VCALENDAR