BEGIN:VCALENDAR
VERSION:2.0
PRODID:ADNA Events System
X-WR-TIMEZONE:America/Vancouver
BEGIN:VTIMEZONE
TZID:America/Vancouver
X-LIC-LOCATION:America/Vancouver
BEGIN:DAYLIGHT
TZOFFSETFROM:-0700
TZOFFSETTO:-0700
DTSTART:19810329T020000
RRULE:FREQ=YEARLY;INTERVAL=1;BYMONTH=3;BYDAY=-1SU
END:DAYLIGHT
END:VTIMEZONE
BEGIN:VEVENT
UID:69e8b62b031a0
DTSTART;TZID=America/Vancouver:20240416T100000
SEQUENCE:0
TRANSP:OPAQUE
DTEND;TZID=America/Vancouver:20240416T130000
URL:https://evaluationcanada.ca/learning-and-events/events/national-events.
 html/event-info/details/id/18
SUMMARY:Engage Your Collaborators with Data Parties
CLASS:PUBLIC
DESCRIPTION:You've been tasked with doing an evaluation and have analyzed t
 he data. Your next task is to write a final report...or is it? What about 
 hosting a data party?  Data parties are a participatory session where you
  sit down with your partners\, collaborators\, and other intended users to
  collaboratively and equitably explore and interpret the initial results. 
 Join us for an informative and interactive webinar that covers the who\, w
 hat\, why\, when\, and how of hosting an online or in-person data party. \
 n\nhttps://evaluationcanada.ca/learning-and-events/events/national-events.
 html/event-info/details/id/18
X-ALT-DESC;FMTTYPE=text/html:<p><strong>Date: </strong>April 16\, 2024<br /
 >\n<strong>Time: </strong>10:00 am - 1:00pm PT<br />\n<strong>Format: </st
 rong>Online Via Zoom&nbsp\;<br />\n<strong>Cost: </strong></p>\n\n<ul>\n<l
 i>CES Members - $250&nbsp\;</li>\n<li>Non-Members - $350</li>\n<li>CES Stu
 dent Members - $50</li>\n<li>CES Global South Members - $50</li>\n<li>Non-
 member Students - $100</li>\n<li>Non-member Global South Evaluators - $100
 </li>\n</ul>\n\n<p><strong>Language: </strong>English</p>\n\n<p><strong>En
 gage Your Collaborators with Data Parties&nbsp\;</strong></p>\n\n<p>You&#3
 9\;ve been tasked with doing an evaluation and have analysed the data. You
 r next task is to write a final report...or is it?</p>\n\n<p>What about ho
 sting a data party?</p>\n\n<p>Data parties are a participatory session whe
 re you sit down with your partners\, collaborators\, and other intended us
 ers to collaboratively and equitably explore and interpret the initial res
 ults. Data parties are an important but often underutilized activity for p
 romoting equity\, the uptake of recommendations\, knowledge translation\, 
 and a learning culture.&nbsp\;</p>\n\n<p>Join us for an informative and in
 teractive webinar that covers the who\, what\, why\, when\, and how of hos
 ting an online or in-person data party. Using engaging lecture\, demonstra
 tions\, real-life examples\, and breakout discussion\, presenter Kylie Hut
 chinson will share practical tips and techniques for data parties includin
 g format options\, potential pitfalls\, and ways to equitably engage colla
 borators with your evaluation and research data.</p>\n\n<p><strong>Learnin
 g Outcomes</strong></p>\n\n<p>At the end of this webinar you will be able 
 to:</p>\n\n<ul>\n<li>List reasons for holding a data party.</li>\n<li>Iden
 tify different options for hosting.&nbsp\;</li>\n<li>Describe ways to help
  collaborators engage with your data and results.&nbsp\;</li>\n<li>State t
 hree tips for overall success.</li>\n</ul>\n\n<p><strong>Who This Session 
 is For</strong></p>\n\n<p>This session will appeal to both emerging and se
 asoned evaluators and researchers new to the practice of data parties\, as
  well as nonprofit staff tasked with evaluating their programs and service
 s.</p>\n\n<p><strong>Presenter</strong></p>\n\n<p>Kylie Hutchinson is an i
 ndependent evaluator and Principal of&nbsp\;<a href=\"https://communitysol
 utions.ca/web/\" target=\"_blank\">Community Solutions Planning &amp\; Eva
 luation</a>. Kylie&#39\;s passion is developing practical and timely resou
 rces for evaluators and nonprofits. She is the author of three books on ev
 aluation and program planning: <a href=\"https://communitysolutions.ca/web
 /guide-to-program-sustainability-2/\" target=\"_blank\">Survive and Thrive
 : Three Steps to Securing Your Program&rsquo\;s Sustainability</a>\, <a hr
 ef=\"https://communitysolutions.ca/web/evaluation-reporting-guide-2/\" tar
 get=\"_blank\">A Short Primer on Innovative Evaluation Reporting</a>\, and
 &nbsp\;<a href=\"https://communitysolutions.ca/web/evaluation-failures/\" 
 target=\"_blank\">Evaluation Failures: 22 Tales of Mistakes Made and Lesso
 ns Learned</a>.&nbsp\;In 2020\, she received the Canadian Evaluation Socie
 ty&#39\;s award for Contribution to Evaluation in Canada.</p>\n
DTSTAMP:20260422T045107Z
END:VEVENT
END:VCALENDAR