BEGIN:VCALENDAR
VERSION:2.0
PRODID:ADNA Events System
X-WR-TIMEZONE:America/Halifax
BEGIN:VTIMEZONE
TZID:America/Halifax
X-LIC-LOCATION:America/Halifax
BEGIN:DAYLIGHT
TZOFFSETFROM:-0300
TZOFFSETTO:-0300
DTSTART:19810329T020000
RRULE:FREQ=YEARLY;INTERVAL=1;BYMONTH=3;BYDAY=-1SU
END:DAYLIGHT
END:VTIMEZONE
BEGIN:VEVENT
UID:69e8b78b41ae4
DTSTART;TZID=America/Halifax:20240505T173000
SEQUENCE:0
TRANSP:OPAQUE
DTEND;TZID=America/Halifax:20240508T130000
URL:https://evaluationcanada.ca/learning-and-events/events/national-events.
 html/event-info/details/id/16
SUMMARY:2024 CES National Conference
CLASS:PUBLIC
DESCRIPTION:Calling all evaluation professionals! Join us for the Canadian 
 Evaluation Society's National Conference\, where we explore the theme of \
 "Renewal and Confluence: Navigating the Future of Evaluation.\" This event
  promises insightful sessions\, renowned speakers and networking opportuni
 ties. Register now to join us in picturesque Fredericton\, New Brunswick!\
 n\nhttps://evaluationcanada.ca/learning-and-events/events/national-events.
 html/event-info/details/id/16
X-ALT-DESC;FMTTYPE=text/html:<h2>Renewal and Confluence: Navigating the Fut
 ure of Evaluation</h2>\n\n<p>The 2024 National Conference is an opportunit
 y to come together to renew\, where ideas will flow and contribute to coll
 ective progress (confluence).&nbsp\;</p>\n\n<p><strong>When:&nbsp\;</stron
 g>May 5-8\, 2024&nbsp\;<br />\n<strong>Where:&nbsp\;</strong>Fredericton\,
  New Brunswick&nbsp\;<br />\n<strong>Location:&nbsp\;</strong>Fredericton 
 Convention Centre (670 Queen Street - see the&nbsp\;<a href=\"https://www.
 frederictonconventions.ca/en/plan/floor-plans-and-capacity-charts/\" targe
 t=\"_blank\">Floor Plans</a>)</p>\n\n<p>Find all the details on the <a hre
 f=\"https://evaluationcanada.ca/c2024/index.html\" target=\"_blank\">confe
 rence website</a>. Then register to join us in picturesque Fredericton\, N
 ew Brunswick!</p>\n\n<p>Can&#39\;t make it in person? Virtual registration
  is also available for the opening and closing ceremonies\, three keynote 
 presentations and awards ceremony\, at a range of price points and with si
 multaneous translation and close captioning.</p>\n\n<p><strong>Registratio
 n Troubleshooting:&nbsp\;</strong></p>\n\n<ul>\n<li>To access member disco
 unts on conference registration\, you must <a href=\"https://evaluationcan
 ada.ca/access/login.html\">log&nbsp\;into the CES website</a>. If&nbsp\;yo
 u do not see the member registration discounts offered\, please make sure 
 your membership fees are up to date.&nbsp\;Expired memberships will be una
 ble to access member discounts on conference registration until they are r
 enewed.</li>\n<li>If you are not a member\, please <a href=\"https://evalu
 ationcanada.ca/access/login.html\">log into the CES website</a> as a non-m
 ember. (<a href=\"https://evaluationcanada.ca/membership/non-member-form.h
 tml\">Create a non-member account</a> if you have not already done so.)</l
 i>\n<li>Please follow the same process to register for the online broadcas
 t of the three plenaries.</li>\n</ul>\n
DTSTAMP:20260422T085659Z
END:VEVENT
END:VCALENDAR