BEGIN:VCALENDAR
VERSION:2.0
PRODID:ADNA Events System
X-WR-TIMEZONE:America/Edmonton
BEGIN:VTIMEZONE
TZID:America/Edmonton
X-LIC-LOCATION:America/Edmonton
BEGIN:DAYLIGHT
TZOFFSETFROM:-0600
TZOFFSETTO:-0600
DTSTART:19810329T020000
RRULE:FREQ=YEARLY;INTERVAL=1;BYMONTH=3;BYDAY=-1SU
END:DAYLIGHT
END:VTIMEZONE
BEGIN:VEVENT
UID:69e8d722bce43
DTSTART;TZID=America/Edmonton:20260524T120000
SEQUENCE:0
TRANSP:OPAQUE
DTEND;TZID=America/Edmonton:20260527T130000
URL:https://evaluationcanada.ca/fr/apprentissage-et-evenements/evenements/e
 venements-nationaux.html/event-info/details/id/41
SUMMARY:<i18n type='dynamic'>dna_adna_event.name.41</i18n>
CLASS:PUBLIC
DESCRIPTION:<i18n type='dynamic'>dna_adna_event.web_shortdesc.41</i18n>\n\n
 https://evaluationcanada.ca/fr/apprentissage-et-evenements/evenements/even
 ements-nationaux.html/event-info/details/id/41
X-ALT-DESC;FMTTYPE=text/html:<i18n type='dynamic'>dna_adna_event.web_detail
 s.41</i18n>
DTSTAMP:20260422T081146Z
END:VEVENT
END:VCALENDAR